

BEGIN:VCALENDAR
VERSION:2.0
PRODID:-//SET English - ECPv6.15.18//NONSGML v1.0//EN
CALSCALE:GREGORIAN
METHOD:PUBLISH
X-WR-CALNAME:SET English
X-ORIGINAL-URL:https://set-onlinestudyportal.co.uk
X-WR-CALDESC:Events for SET English
REFRESH-INTERVAL;VALUE=DURATION:PT1H
X-Robots-Tag:noindex
X-PUBLISHED-TTL:PT1H
BEGIN:VTIMEZONE
TZID:Europe/London
BEGIN:DAYLIGHT
TZOFFSETFROM:+0000
TZOFFSETTO:+0100
TZNAME:BST
DTSTART:20250330T010000
END:DAYLIGHT
BEGIN:STANDARD
TZOFFSETFROM:+0100
TZOFFSETTO:+0000
TZNAME:GMT
DTSTART:20251026T010000
END:STANDARD
BEGIN:DAYLIGHT
TZOFFSETFROM:+0000
TZOFFSETTO:+0100
TZNAME:BST
DTSTART:20260329T010000
END:DAYLIGHT
BEGIN:STANDARD
TZOFFSETFROM:+0100
TZOFFSETTO:+0000
TZNAME:GMT
DTSTART:20261025T010000
END:STANDARD
BEGIN:DAYLIGHT
TZOFFSETFROM:+0000
TZOFFSETTO:+0100
TZNAME:BST
DTSTART:20270328T010000
END:DAYLIGHT
BEGIN:STANDARD
TZOFFSETFROM:+0100
TZOFFSETTO:+0000
TZNAME:GMT
DTSTART:20271031T010000
END:STANDARD
END:VTIMEZONE
BEGIN:VEVENT
DTSTART;TZID=Europe/London:20260701T120000
DTEND;TZID=Europe/London:20260701T130000
DTSTAMP:20260422T195417
CREATED:20251102T193558Z
LAST-MODIFIED:20260402T205027Z
UID:10044269-1782907200-1782910800@set-onlinestudyportal.co.uk
SUMMARY:OET Speaking
DESCRIPTION:  \n  \n \nAre you FULLY logged in yet?\nClick here to check: \nLogin to SET \n  \n  \n  \nWant to upgrade your package? \n \nOET PREPARATION \n  \n  \n  \n  \n  \n  \n  \n  \n  \n  \n  \n  \n  \n 
URL:https://set-onlinestudyportal.co.uk/event/oet-speaking/2026-07-01/
CATEGORIES:OET Speaking
ATTACH;FMTTYPE=image/jpeg:https://set-onlinestudyportal.co.uk/wp-content/uploads/2023/11/Blog-Cover-1.jpg
END:VEVENT
BEGIN:VEVENT
DTSTART;TZID=Europe/London:20260702T120000
DTEND;TZID=Europe/London:20260702T130000
DTSTAMP:20260422T195417
CREATED:20251102T193558Z
LAST-MODIFIED:20260402T205027Z
UID:10044270-1782993600-1782997200@set-onlinestudyportal.co.uk
SUMMARY:OET Speaking
DESCRIPTION:  \n  \n \nAre you FULLY logged in yet?\nClick here to check: \nLogin to SET \n  \n  \n  \nWant to upgrade your package? \n \nOET PREPARATION \n  \n  \n  \n  \n  \n  \n  \n  \n  \n  \n  \n  \n  \n 
URL:https://set-onlinestudyportal.co.uk/event/oet-speaking/2026-07-02/
CATEGORIES:OET Speaking
ATTACH;FMTTYPE=image/jpeg:https://set-onlinestudyportal.co.uk/wp-content/uploads/2023/11/Blog-Cover-1.jpg
END:VEVENT
BEGIN:VEVENT
DTSTART;TZID=Europe/London:20260703T120000
DTEND;TZID=Europe/London:20260703T130000
DTSTAMP:20260422T195417
CREATED:20251102T193558Z
LAST-MODIFIED:20260402T205027Z
UID:10044271-1783080000-1783083600@set-onlinestudyportal.co.uk
SUMMARY:OET Speaking
DESCRIPTION:  \n  \n \nAre you FULLY logged in yet?\nClick here to check: \nLogin to SET \n  \n  \n  \nWant to upgrade your package? \n \nOET PREPARATION \n  \n  \n  \n  \n  \n  \n  \n  \n  \n  \n  \n  \n  \n 
URL:https://set-onlinestudyportal.co.uk/event/oet-speaking/2026-07-03/
CATEGORIES:OET Speaking
ATTACH;FMTTYPE=image/jpeg:https://set-onlinestudyportal.co.uk/wp-content/uploads/2023/11/Blog-Cover-1.jpg
END:VEVENT
BEGIN:VEVENT
DTSTART;TZID=Europe/London:20260706T120000
DTEND;TZID=Europe/London:20260706T130000
DTSTAMP:20260422T195417
CREATED:20251102T193558Z
LAST-MODIFIED:20260402T205027Z
UID:10044272-1783339200-1783342800@set-onlinestudyportal.co.uk
SUMMARY:OET Speaking
DESCRIPTION:  \n  \n \nAre you FULLY logged in yet?\nClick here to check: \nLogin to SET \n  \n  \n  \nWant to upgrade your package? \n \nOET PREPARATION \n  \n  \n  \n  \n  \n  \n  \n  \n  \n  \n  \n  \n  \n 
URL:https://set-onlinestudyportal.co.uk/event/oet-speaking/2026-07-06/
CATEGORIES:OET Speaking
ATTACH;FMTTYPE=image/jpeg:https://set-onlinestudyportal.co.uk/wp-content/uploads/2023/11/Blog-Cover-1.jpg
END:VEVENT
BEGIN:VEVENT
DTSTART;TZID=Europe/London:20260707T120000
DTEND;TZID=Europe/London:20260707T130000
DTSTAMP:20260422T195417
CREATED:20251102T193558Z
LAST-MODIFIED:20260402T205027Z
UID:10044273-1783425600-1783429200@set-onlinestudyportal.co.uk
SUMMARY:OET Speaking
DESCRIPTION:  \n  \n \nAre you FULLY logged in yet?\nClick here to check: \nLogin to SET \n  \n  \n  \nWant to upgrade your package? \n \nOET PREPARATION \n  \n  \n  \n  \n  \n  \n  \n  \n  \n  \n  \n  \n  \n 
URL:https://set-onlinestudyportal.co.uk/event/oet-speaking/2026-07-07/
CATEGORIES:OET Speaking
ATTACH;FMTTYPE=image/jpeg:https://set-onlinestudyportal.co.uk/wp-content/uploads/2023/11/Blog-Cover-1.jpg
END:VEVENT
BEGIN:VEVENT
DTSTART;TZID=Europe/London:20260708T120000
DTEND;TZID=Europe/London:20260708T130000
DTSTAMP:20260422T195417
CREATED:20251102T193558Z
LAST-MODIFIED:20260402T205027Z
UID:10044274-1783512000-1783515600@set-onlinestudyportal.co.uk
SUMMARY:OET Speaking
DESCRIPTION:  \n  \n \nAre you FULLY logged in yet?\nClick here to check: \nLogin to SET \n  \n  \n  \nWant to upgrade your package? \n \nOET PREPARATION \n  \n  \n  \n  \n  \n  \n  \n  \n  \n  \n  \n  \n  \n 
URL:https://set-onlinestudyportal.co.uk/event/oet-speaking/2026-07-08/
CATEGORIES:OET Speaking
ATTACH;FMTTYPE=image/jpeg:https://set-onlinestudyportal.co.uk/wp-content/uploads/2023/11/Blog-Cover-1.jpg
END:VEVENT
BEGIN:VEVENT
DTSTART;TZID=Europe/London:20260709T120000
DTEND;TZID=Europe/London:20260709T130000
DTSTAMP:20260422T195417
CREATED:20251102T193558Z
LAST-MODIFIED:20260402T205027Z
UID:10044275-1783598400-1783602000@set-onlinestudyportal.co.uk
SUMMARY:OET Speaking
DESCRIPTION:  \n  \n \nAre you FULLY logged in yet?\nClick here to check: \nLogin to SET \n  \n  \n  \nWant to upgrade your package? \n \nOET PREPARATION \n  \n  \n  \n  \n  \n  \n  \n  \n  \n  \n  \n  \n  \n 
URL:https://set-onlinestudyportal.co.uk/event/oet-speaking/2026-07-09/
CATEGORIES:OET Speaking
ATTACH;FMTTYPE=image/jpeg:https://set-onlinestudyportal.co.uk/wp-content/uploads/2023/11/Blog-Cover-1.jpg
END:VEVENT
BEGIN:VEVENT
DTSTART;TZID=Europe/London:20260710T120000
DTEND;TZID=Europe/London:20260710T130000
DTSTAMP:20260422T195417
CREATED:20251102T193558Z
LAST-MODIFIED:20260402T205027Z
UID:10044276-1783684800-1783688400@set-onlinestudyportal.co.uk
SUMMARY:OET Speaking
DESCRIPTION:  \n  \n \nAre you FULLY logged in yet?\nClick here to check: \nLogin to SET \n  \n  \n  \nWant to upgrade your package? \n \nOET PREPARATION \n  \n  \n  \n  \n  \n  \n  \n  \n  \n  \n  \n  \n  \n 
URL:https://set-onlinestudyportal.co.uk/event/oet-speaking/2026-07-10/
CATEGORIES:OET Speaking
ATTACH;FMTTYPE=image/jpeg:https://set-onlinestudyportal.co.uk/wp-content/uploads/2023/11/Blog-Cover-1.jpg
END:VEVENT
BEGIN:VEVENT
DTSTART;TZID=Europe/London:20260713T120000
DTEND;TZID=Europe/London:20260713T130000
DTSTAMP:20260422T195417
CREATED:20251102T193558Z
LAST-MODIFIED:20260402T205027Z
UID:10044277-1783944000-1783947600@set-onlinestudyportal.co.uk
SUMMARY:OET Speaking
DESCRIPTION:  \n  \n \nAre you FULLY logged in yet?\nClick here to check: \nLogin to SET \n  \n  \n  \nWant to upgrade your package? \n \nOET PREPARATION \n  \n  \n  \n  \n  \n  \n  \n  \n  \n  \n  \n  \n  \n 
URL:https://set-onlinestudyportal.co.uk/event/oet-speaking/2026-07-13/
CATEGORIES:OET Speaking
ATTACH;FMTTYPE=image/jpeg:https://set-onlinestudyportal.co.uk/wp-content/uploads/2023/11/Blog-Cover-1.jpg
END:VEVENT
BEGIN:VEVENT
DTSTART;TZID=Europe/London:20260714T120000
DTEND;TZID=Europe/London:20260714T130000
DTSTAMP:20260422T195417
CREATED:20251102T193558Z
LAST-MODIFIED:20260402T205027Z
UID:10044278-1784030400-1784034000@set-onlinestudyportal.co.uk
SUMMARY:OET Speaking
DESCRIPTION:  \n  \n \nAre you FULLY logged in yet?\nClick here to check: \nLogin to SET \n  \n  \n  \nWant to upgrade your package? \n \nOET PREPARATION \n  \n  \n  \n  \n  \n  \n  \n  \n  \n  \n  \n  \n  \n 
URL:https://set-onlinestudyportal.co.uk/event/oet-speaking/2026-07-14/
CATEGORIES:OET Speaking
ATTACH;FMTTYPE=image/jpeg:https://set-onlinestudyportal.co.uk/wp-content/uploads/2023/11/Blog-Cover-1.jpg
END:VEVENT
BEGIN:VEVENT
DTSTART;TZID=Europe/London:20260715T120000
DTEND;TZID=Europe/London:20260715T130000
DTSTAMP:20260422T195417
CREATED:20251102T193558Z
LAST-MODIFIED:20260402T205027Z
UID:10044279-1784116800-1784120400@set-onlinestudyportal.co.uk
SUMMARY:OET Speaking
DESCRIPTION:  \n  \n \nAre you FULLY logged in yet?\nClick here to check: \nLogin to SET \n  \n  \n  \nWant to upgrade your package? \n \nOET PREPARATION \n  \n  \n  \n  \n  \n  \n  \n  \n  \n  \n  \n  \n  \n 
URL:https://set-onlinestudyportal.co.uk/event/oet-speaking/2026-07-15/
CATEGORIES:OET Speaking
ATTACH;FMTTYPE=image/jpeg:https://set-onlinestudyportal.co.uk/wp-content/uploads/2023/11/Blog-Cover-1.jpg
END:VEVENT
BEGIN:VEVENT
DTSTART;TZID=Europe/London:20260716T120000
DTEND;TZID=Europe/London:20260716T130000
DTSTAMP:20260422T195417
CREATED:20251102T193558Z
LAST-MODIFIED:20260402T205027Z
UID:10044280-1784203200-1784206800@set-onlinestudyportal.co.uk
SUMMARY:OET Speaking
DESCRIPTION:  \n  \n \nAre you FULLY logged in yet?\nClick here to check: \nLogin to SET \n  \n  \n  \nWant to upgrade your package? \n \nOET PREPARATION \n  \n  \n  \n  \n  \n  \n  \n  \n  \n  \n  \n  \n  \n 
URL:https://set-onlinestudyportal.co.uk/event/oet-speaking/2026-07-16/
CATEGORIES:OET Speaking
ATTACH;FMTTYPE=image/jpeg:https://set-onlinestudyportal.co.uk/wp-content/uploads/2023/11/Blog-Cover-1.jpg
END:VEVENT
BEGIN:VEVENT
DTSTART;TZID=Europe/London:20260717T120000
DTEND;TZID=Europe/London:20260717T130000
DTSTAMP:20260422T195417
CREATED:20251102T193558Z
LAST-MODIFIED:20260402T205027Z
UID:10044281-1784289600-1784293200@set-onlinestudyportal.co.uk
SUMMARY:OET Speaking
DESCRIPTION:  \n  \n \nAre you FULLY logged in yet?\nClick here to check: \nLogin to SET \n  \n  \n  \nWant to upgrade your package? \n \nOET PREPARATION \n  \n  \n  \n  \n  \n  \n  \n  \n  \n  \n  \n  \n  \n 
URL:https://set-onlinestudyportal.co.uk/event/oet-speaking/2026-07-17/
CATEGORIES:OET Speaking
ATTACH;FMTTYPE=image/jpeg:https://set-onlinestudyportal.co.uk/wp-content/uploads/2023/11/Blog-Cover-1.jpg
END:VEVENT
BEGIN:VEVENT
DTSTART;TZID=Europe/London:20260720T120000
DTEND;TZID=Europe/London:20260720T130000
DTSTAMP:20260422T195417
CREATED:20251102T193558Z
LAST-MODIFIED:20260402T205027Z
UID:10044282-1784548800-1784552400@set-onlinestudyportal.co.uk
SUMMARY:OET Speaking
DESCRIPTION:  \n  \n \nAre you FULLY logged in yet?\nClick here to check: \nLogin to SET \n  \n  \n  \nWant to upgrade your package? \n \nOET PREPARATION \n  \n  \n  \n  \n  \n  \n  \n  \n  \n  \n  \n  \n  \n 
URL:https://set-onlinestudyportal.co.uk/event/oet-speaking/2026-07-20/
CATEGORIES:OET Speaking
ATTACH;FMTTYPE=image/jpeg:https://set-onlinestudyportal.co.uk/wp-content/uploads/2023/11/Blog-Cover-1.jpg
END:VEVENT
BEGIN:VEVENT
DTSTART;TZID=Europe/London:20260721T120000
DTEND;TZID=Europe/London:20260721T130000
DTSTAMP:20260422T195417
CREATED:20251102T193558Z
LAST-MODIFIED:20260402T205027Z
UID:10044283-1784635200-1784638800@set-onlinestudyportal.co.uk
SUMMARY:OET Speaking
DESCRIPTION:  \n  \n \nAre you FULLY logged in yet?\nClick here to check: \nLogin to SET \n  \n  \n  \nWant to upgrade your package? \n \nOET PREPARATION \n  \n  \n  \n  \n  \n  \n  \n  \n  \n  \n  \n  \n  \n 
URL:https://set-onlinestudyportal.co.uk/event/oet-speaking/2026-07-21/
CATEGORIES:OET Speaking
ATTACH;FMTTYPE=image/jpeg:https://set-onlinestudyportal.co.uk/wp-content/uploads/2023/11/Blog-Cover-1.jpg
END:VEVENT
BEGIN:VEVENT
DTSTART;TZID=Europe/London:20260722T120000
DTEND;TZID=Europe/London:20260722T130000
DTSTAMP:20260422T195417
CREATED:20251102T193558Z
LAST-MODIFIED:20260402T205027Z
UID:10044284-1784721600-1784725200@set-onlinestudyportal.co.uk
SUMMARY:OET Speaking
DESCRIPTION:  \n  \n \nAre you FULLY logged in yet?\nClick here to check: \nLogin to SET \n  \n  \n  \nWant to upgrade your package? \n \nOET PREPARATION \n  \n  \n  \n  \n  \n  \n  \n  \n  \n  \n  \n  \n  \n 
URL:https://set-onlinestudyportal.co.uk/event/oet-speaking/2026-07-22/
CATEGORIES:OET Speaking
ATTACH;FMTTYPE=image/jpeg:https://set-onlinestudyportal.co.uk/wp-content/uploads/2023/11/Blog-Cover-1.jpg
END:VEVENT
BEGIN:VEVENT
DTSTART;TZID=Europe/London:20260723T120000
DTEND;TZID=Europe/London:20260723T130000
DTSTAMP:20260422T195417
CREATED:20251102T193558Z
LAST-MODIFIED:20260402T205027Z
UID:10044285-1784808000-1784811600@set-onlinestudyportal.co.uk
SUMMARY:OET Speaking
DESCRIPTION:  \n  \n \nAre you FULLY logged in yet?\nClick here to check: \nLogin to SET \n  \n  \n  \nWant to upgrade your package? \n \nOET PREPARATION \n  \n  \n  \n  \n  \n  \n  \n  \n  \n  \n  \n  \n  \n 
URL:https://set-onlinestudyportal.co.uk/event/oet-speaking/2026-07-23/
CATEGORIES:OET Speaking
ATTACH;FMTTYPE=image/jpeg:https://set-onlinestudyportal.co.uk/wp-content/uploads/2023/11/Blog-Cover-1.jpg
END:VEVENT
BEGIN:VEVENT
DTSTART;TZID=Europe/London:20260724T120000
DTEND;TZID=Europe/London:20260724T130000
DTSTAMP:20260422T195417
CREATED:20251102T193558Z
LAST-MODIFIED:20260402T205027Z
UID:10044286-1784894400-1784898000@set-onlinestudyportal.co.uk
SUMMARY:OET Speaking
DESCRIPTION:  \n  \n \nAre you FULLY logged in yet?\nClick here to check: \nLogin to SET \n  \n  \n  \nWant to upgrade your package? \n \nOET PREPARATION \n  \n  \n  \n  \n  \n  \n  \n  \n  \n  \n  \n  \n  \n 
URL:https://set-onlinestudyportal.co.uk/event/oet-speaking/2026-07-24/
CATEGORIES:OET Speaking
ATTACH;FMTTYPE=image/jpeg:https://set-onlinestudyportal.co.uk/wp-content/uploads/2023/11/Blog-Cover-1.jpg
END:VEVENT
BEGIN:VEVENT
DTSTART;TZID=Europe/London:20260727T120000
DTEND;TZID=Europe/London:20260727T130000
DTSTAMP:20260422T195417
CREATED:20251102T193558Z
LAST-MODIFIED:20260402T205027Z
UID:10044287-1785153600-1785157200@set-onlinestudyportal.co.uk
SUMMARY:OET Speaking
DESCRIPTION:  \n  \n \nAre you FULLY logged in yet?\nClick here to check: \nLogin to SET \n  \n  \n  \nWant to upgrade your package? \n \nOET PREPARATION \n  \n  \n  \n  \n  \n  \n  \n  \n  \n  \n  \n  \n  \n 
URL:https://set-onlinestudyportal.co.uk/event/oet-speaking/2026-07-27/
CATEGORIES:OET Speaking
ATTACH;FMTTYPE=image/jpeg:https://set-onlinestudyportal.co.uk/wp-content/uploads/2023/11/Blog-Cover-1.jpg
END:VEVENT
BEGIN:VEVENT
DTSTART;TZID=Europe/London:20260728T120000
DTEND;TZID=Europe/London:20260728T130000
DTSTAMP:20260422T195417
CREATED:20251102T193558Z
LAST-MODIFIED:20260402T205027Z
UID:10044288-1785240000-1785243600@set-onlinestudyportal.co.uk
SUMMARY:OET Speaking
DESCRIPTION:  \n  \n \nAre you FULLY logged in yet?\nClick here to check: \nLogin to SET \n  \n  \n  \nWant to upgrade your package? \n \nOET PREPARATION \n  \n  \n  \n  \n  \n  \n  \n  \n  \n  \n  \n  \n  \n 
URL:https://set-onlinestudyportal.co.uk/event/oet-speaking/2026-07-28/
CATEGORIES:OET Speaking
ATTACH;FMTTYPE=image/jpeg:https://set-onlinestudyportal.co.uk/wp-content/uploads/2023/11/Blog-Cover-1.jpg
END:VEVENT
BEGIN:VEVENT
DTSTART;TZID=Europe/London:20260729T120000
DTEND;TZID=Europe/London:20260729T130000
DTSTAMP:20260422T195417
CREATED:20251102T193558Z
LAST-MODIFIED:20260402T205027Z
UID:10044289-1785326400-1785330000@set-onlinestudyportal.co.uk
SUMMARY:OET Speaking
DESCRIPTION:  \n  \n \nAre you FULLY logged in yet?\nClick here to check: \nLogin to SET \n  \n  \n  \nWant to upgrade your package? \n \nOET PREPARATION \n  \n  \n  \n  \n  \n  \n  \n  \n  \n  \n  \n  \n  \n 
URL:https://set-onlinestudyportal.co.uk/event/oet-speaking/2026-07-29/
CATEGORIES:OET Speaking
ATTACH;FMTTYPE=image/jpeg:https://set-onlinestudyportal.co.uk/wp-content/uploads/2023/11/Blog-Cover-1.jpg
END:VEVENT
BEGIN:VEVENT
DTSTART;TZID=Europe/London:20260730T120000
DTEND;TZID=Europe/London:20260730T130000
DTSTAMP:20260422T195417
CREATED:20251102T193558Z
LAST-MODIFIED:20260402T205027Z
UID:10044290-1785412800-1785416400@set-onlinestudyportal.co.uk
SUMMARY:OET Speaking
DESCRIPTION:  \n  \n \nAre you FULLY logged in yet?\nClick here to check: \nLogin to SET \n  \n  \n  \nWant to upgrade your package? \n \nOET PREPARATION \n  \n  \n  \n  \n  \n  \n  \n  \n  \n  \n  \n  \n  \n 
URL:https://set-onlinestudyportal.co.uk/event/oet-speaking/2026-07-30/
CATEGORIES:OET Speaking
ATTACH;FMTTYPE=image/jpeg:https://set-onlinestudyportal.co.uk/wp-content/uploads/2023/11/Blog-Cover-1.jpg
END:VEVENT
BEGIN:VEVENT
DTSTART;TZID=Europe/London:20260731T120000
DTEND;TZID=Europe/London:20260731T130000
DTSTAMP:20260422T195417
CREATED:20251102T193558Z
LAST-MODIFIED:20260402T205027Z
UID:10044291-1785499200-1785502800@set-onlinestudyportal.co.uk
SUMMARY:OET Speaking
DESCRIPTION:  \n  \n \nAre you FULLY logged in yet?\nClick here to check: \nLogin to SET \n  \n  \n  \nWant to upgrade your package? \n \nOET PREPARATION \n  \n  \n  \n  \n  \n  \n  \n  \n  \n  \n  \n  \n  \n 
URL:https://set-onlinestudyportal.co.uk/event/oet-speaking/2026-07-31/
CATEGORIES:OET Speaking
ATTACH;FMTTYPE=image/jpeg:https://set-onlinestudyportal.co.uk/wp-content/uploads/2023/11/Blog-Cover-1.jpg
END:VEVENT
END:VCALENDAR